BEGIN:VCALENDAR
VERSION:2.0
PRODID:-//Seed, Boston MA - ECPv6.15.17//NONSGML v1.0//EN
CALSCALE:GREGORIAN
METHOD:PUBLISH
X-WR-CALNAME:Seed, Boston MA
X-ORIGINAL-URL:https://seedyourhead.com/boston
X-WR-CALDESC:Events for Seed, Boston MA
REFRESH-INTERVAL;VALUE=DURATION:PT1H
X-Robots-Tag:noindex
X-PUBLISHED-TTL:PT1H
BEGIN:VTIMEZONE
TZID:America/New_York
BEGIN:DAYLIGHT
TZOFFSETFROM:-0500
TZOFFSETTO:-0400
TZNAME:EDT
DTSTART:20240310T070000
END:DAYLIGHT
BEGIN:STANDARD
TZOFFSETFROM:-0400
TZOFFSETTO:-0500
TZNAME:EST
DTSTART:20241103T060000
END:STANDARD
BEGIN:DAYLIGHT
TZOFFSETFROM:-0500
TZOFFSETTO:-0400
TZNAME:EDT
DTSTART:20250309T070000
END:DAYLIGHT
BEGIN:STANDARD
TZOFFSETFROM:-0400
TZOFFSETTO:-0500
TZNAME:EST
DTSTART:20251102T060000
END:STANDARD
BEGIN:DAYLIGHT
TZOFFSETFROM:-0500
TZOFFSETTO:-0400
TZNAME:EDT
DTSTART:20260308T070000
END:DAYLIGHT
BEGIN:STANDARD
TZOFFSETFROM:-0400
TZOFFSETTO:-0500
TZNAME:EST
DTSTART:20261101T060000
END:STANDARD
END:VTIMEZONE
BEGIN:VEVENT
DTSTART;TZID=America/New_York:20250502T150000
DTEND;TZID=America/New_York:20250502T170000
DTSTAMP:20260419T214347
CREATED:20250426T210659Z
LAST-MODIFIED:20250426T210659Z
UID:10000006-1746198000-1746205200@seedyourhead.com
SUMMARY:BUD'S GOODS LIL JAYS POP UP  | 3PM - 5PM |
DESCRIPTION:Stop by the store and meet our newest friend\, Lil Jays! From Bud’s Goods Jay’s Pre-Rolls are freshly packed with carefully sourced flower from the top growers in the state. We do all the work so you can reap the rewards: quality pre-rolls at an affordable price. Lil’ Jay’s are “The People’s Eighth” packed into 10 mini pre-rolls in a pocket-sized tin. They are convenient & perfect for sharing with all your buds! You won’t want to miss out on this pop up.
URL:https://seedyourhead.com/boston/event/buds-goods-lil-jays-pop-up-3pm-5pm/
LOCATION:Core Cannabis Museum\, 401A Centre Street\, Boston\, MA\, 02130\, United States
ATTACH;FMTTYPE=image/jpeg:https://seedyourhead.com/boston/wp-content/uploads/sites/2/2025/04/LIL-jays.jpg
END:VEVENT
END:VCALENDAR